BEGIN:VCALENDAR
VERSION:2.0
PRODID:-//Pfarrverband Grünwald - ECPv6.15.20//NONSGML v1.0//EN
CALSCALE:GREGORIAN
METHOD:PUBLISH
X-ORIGINAL-URL:https://www.pfarrverband-gruenwald.de
X-WR-CALDESC:Veranstaltungen für Pfarrverband Grünwald
REFRESH-INTERVAL;VALUE=DURATION:PT1H
X-Robots-Tag:noindex
X-PUBLISHED-TTL:PT1H
BEGIN:VTIMEZONE
TZID:Europe/Berlin
BEGIN:DAYLIGHT
TZOFFSETFROM:+0100
TZOFFSETTO:+0200
TZNAME:CEST
DTSTART:20250330T010000
END:DAYLIGHT
BEGIN:STANDARD
TZOFFSETFROM:+0200
TZOFFSETTO:+0100
TZNAME:CET
DTSTART:20251026T010000
END:STANDARD
BEGIN:DAYLIGHT
TZOFFSETFROM:+0100
TZOFFSETTO:+0200
TZNAME:CEST
DTSTART:20260329T010000
END:DAYLIGHT
BEGIN:STANDARD
TZOFFSETFROM:+0200
TZOFFSETTO:+0100
TZNAME:CET
DTSTART:20261025T010000
END:STANDARD
BEGIN:DAYLIGHT
TZOFFSETFROM:+0100
TZOFFSETTO:+0200
TZNAME:CEST
DTSTART:20270328T010000
END:DAYLIGHT
BEGIN:STANDARD
TZOFFSETFROM:+0200
TZOFFSETTO:+0100
TZNAME:CET
DTSTART:20271031T010000
END:STANDARD
END:VTIMEZONE
BEGIN:VEVENT
DTSTART;TZID=Europe/Berlin:20260419T093000
DTEND;TZID=Europe/Berlin:20260419T103000
DTSTAMP:20260419T143505
CREATED:20260321T191338Z
LAST-MODIFIED:20260321T191338Z
UID:25914-1776591000-1776594600@www.pfarrverband-gruenwald.de
SUMMARY:Wortgottesfeier mit Kommunionausteilung
DESCRIPTION:am 3. Sonntag der Osterzeit (Lesejahr A)\n \nJeden Sonntag findet um 9.30 Uhr ein Gottesdienst (Eucharistiefeier oder Wortgottesdienst) in der Parkresidenz Helmine Held an der Eierwiese statt. \nGerne können Sie als Externer die Gottesdienste in der Parkresidenz besuchen. Der Zugang ist am besten über den Brunnwartsweg in den Neubau und dann durch den Park zur Kapelle. \nDie liturgischen Texte des Gottesdienstes für das Kirchenjahr finden Sie z.B. hier (ohne Gewähr für die Korrektheit).
URL:https://www.pfarrverband-gruenwald.de/event/wortgottesfeier-mit-kommunionausteilung-28/
LOCATION:Parkresidenz Helmine Held\, Auf der Eierwiese 26\, Grünwald\, Bayern\, 82031\, Deutschland
CATEGORIES:Regelmäßige Gottesdienste
ATTACH;FMTTYPE=image/jpeg:https://www.pfarrverband-gruenwald.de/wp-content/uploads/2018/10/DSC_2746.jpg
END:VEVENT
BEGIN:VEVENT
DTSTART;TZID=Europe/Berlin:20260419T093000
DTEND;TZID=Europe/Berlin:20260419T103000
DTSTAMP:20260419T143505
CREATED:20260328T181509Z
LAST-MODIFIED:20260328T181509Z
UID:26033-1776591000-1776594600@www.pfarrverband-gruenwald.de
SUMMARY:Feier der Eucharistie
DESCRIPTION:am 3. Sonntag der Osterzeit  (Lesejahr A) \nDie Liturgischen Texte des Gottesdienstes für das Kirchenjahr finden Sie z.B. hier (ohne Gewähr für die Korrektheit).
URL:https://www.pfarrverband-gruenwald.de/event/feier-der-eucharistie-48/
LOCATION:Maria Königin Kirche\, Kardinal-Faulhaber-Platz 1\, Grünwald\, Bayern\, 82031\, Deutschland
CATEGORIES:Regelmäßige Gottesdienste,Veranstaltungen
ATTACH;FMTTYPE=image/jpeg:https://www.pfarrverband-gruenwald.de/wp-content/uploads/2021/04/P1030456-scaled.jpg
END:VEVENT
BEGIN:VEVENT
DTSTART;TZID=Europe/Berlin:20260419T110000
DTEND;TZID=Europe/Berlin:20260419T120000
DTSTAMP:20260419T143505
CREATED:20260328T181757Z
LAST-MODIFIED:20260328T181757Z
UID:26035-1776596400-1776600000@www.pfarrverband-gruenwald.de
SUMMARY:Feier der Eucharistie
DESCRIPTION:am 3. Sonntag der Osterzeit (Lesejahr A) \nDie Liturgischen Texte des Gottesdienstes für das Lesejahr finden Sie z.B. hier (ohne Gewähr für die Korrektheit).
URL:https://www.pfarrverband-gruenwald.de/event/feier-der-eucharistie-49/
LOCATION:St. Peter und Paul Kirche\, Schloßstraße 2\, Grünwald\, Bayern\, 82031\, Deutschland
CATEGORIES:Regelmäßige Gottesdienste
ATTACH;FMTTYPE=image/jpeg:https://www.pfarrverband-gruenwald.de/wp-content/uploads/2021/03/P1030433-scaled.jpg
END:VEVENT
BEGIN:VEVENT
DTSTART;TZID=Europe/Berlin:20260421T143000
DTEND;TZID=Europe/Berlin:20260421T163000
DTSTAMP:20260419T143505
CREATED:20260328T181921Z
LAST-MODIFIED:20260328T181921Z
UID:26039-1776781800-1776789000@www.pfarrverband-gruenwald.de
SUMMARY:Trauer-Café im Café im Haus der Begegnung
DESCRIPTION:Das Trauer-Café im Café Treffpunkt (Haus der Begegnung) soll ein Treffpunkt sein für diejenigen\, die von einem lieben Menschen Abschied nehmen mussten oder die aus einem anderen Grund einen Verlust in ihrem Leben auszuhalten haben. \nAn jedem 3. Dienstag im Monat. \nZusammenkommen im Foyer im Haus der Begegnung. \nNäheres siehe auf dem verlinkten Flyer!
URL:https://www.pfarrverband-gruenwald.de/event/trauer-cafe-im-cafe-im-haus-der-begegnung-2/
LOCATION:Treffpunkt im Haus der Begegnung / Tobrukstr.2\, Tobrukstrasse 2\, Grünwald\, Bayern\, 82031\, Deutschland
CATEGORIES:Veranstaltungen
ATTACH;FMTTYPE=image/png:https://www.pfarrverband-gruenwald.de/wp-content/uploads/2024/08/Trauercafe.png
END:VEVENT
BEGIN:VEVENT
DTSTART;TZID=Europe/Berlin:20260422T150000
DTEND;TZID=Europe/Berlin:20260422T160000
DTSTAMP:20260419T143505
CREATED:20260328T182013Z
LAST-MODIFIED:20260328T182013Z
UID:26041-1776870000-1776873600@www.pfarrverband-gruenwald.de
SUMMARY:Taizé-Gebet im Seniorenheim Römerschanz
DESCRIPTION:Wir treffen uns jeden 2. und 4. Mittwoch im Monat um 15:00 im Seniorenheim Römerschanz.\n \nDie von Frère Roger Schutz gegründete ökumenische Mönchsgemeinschaft in Taizé (Frankreich) hat eine weltweite Bewegung ausgelöst und zieht bis heute zu ihren ökumenischen Jugendtreffen jährliche Hunderttausende an – nicht nur Jugendliche. Viele haben dort wesentliche Impulse für ihr Leben als Christen in der Welt von heute erfahren. Um diesen Impetus auch im Alltag weiter zu tragen\, gibt es an vielen Orten regelmäßige Treffen zum Gebet und Austausch – so auch in Grünwald. \nJeder ist herzlich eingeladen\, auch ohne Taizé-Erfahrung!
URL:https://www.pfarrverband-gruenwald.de/event/taize-gebet-im-seniorenheim-roemerschanz-10/
LOCATION:Seniorenheim Römerschanz\, Dr. Max-Strasse 1-3\, Grünwald\, Bayern\, 82031\, Deutschland
CATEGORIES:Taizégebet
ATTACH;FMTTYPE=image/jpeg:https://www.pfarrverband-gruenwald.de/wp-content/uploads/2026/03/Roemerschanz-Maerz.jpg
END:VEVENT
BEGIN:VEVENT
DTSTART;TZID=Europe/Berlin:20260422T180000
DTEND;TZID=Europe/Berlin:20260422T183000
DTSTAMP:20260419T143505
CREATED:20260321T192700Z
LAST-MODIFIED:20260321T192713Z
UID:25924-1776880800-1776882600@www.pfarrverband-gruenwald.de
SUMMARY:Eucharistische Anbetung
DESCRIPTION:Bei der eucharistischen Anbetung beten wir Jesus an\, der im Leib Christi\, der Hostie\, gegenwärtig ist. Nach unserem Glauben ist Jesus nach der Wandlung von Brot und Wein in Leib und Blut Christi wirklich gegenwärtig. Der so anwesende Herr wird bei der eucharistischen Anbetung verehrt. Bei der eucharistischen Anbetung besteht die Möglichkeit\, den Sohn Gottes unter den Zeichen von Brot und Wein anzubeten.
URL:https://www.pfarrverband-gruenwald.de/event/eucharistische-anbetung-4/
LOCATION:Kapelle von Maria Königin\, Kardinal-Faulhaber-Platz 1\, Grünwald\, Bayern\, 82031\, Deutschland
CATEGORIES:Besondere Gottesdienste
ATTACH;FMTTYPE=image/png:https://www.pfarrverband-gruenwald.de/wp-content/uploads/2026/03/Monstranz-PP.png
END:VEVENT
BEGIN:VEVENT
DTSTART;TZID=Europe/Berlin:20260422T190000
DTEND;TZID=Europe/Berlin:20260422T200000
DTSTAMP:20260419T143505
CREATED:20260321T193307Z
LAST-MODIFIED:20260417T104703Z
UID:25935-1776884400-1776888000@www.pfarrverband-gruenwald.de
SUMMARY:Abendmesse in Maria Königin
DESCRIPTION:am Mittwoch der 3. Osterwoche \nDie Liturgischen Texte des Gottesdienstes für das Lesejahr finden Sie z.B. hier (ohne Gewähr für die Korrektheit).
URL:https://www.pfarrverband-gruenwald.de/event/abendmesse-in-maria-koenigin-31/
LOCATION:Kapelle von Maria Königin\, Kardinal-Faulhaber-Platz 1\, Grünwald\, Bayern\, 82031\, Deutschland
CATEGORIES:Regelmäßige Gottesdienste
ATTACH;FMTTYPE=image/jpeg:https://www.pfarrverband-gruenwald.de/wp-content/uploads/2026/04/Maria-Koenigin-Kapelle-2-scaled.jpg
END:VEVENT
BEGIN:VEVENT
DTSTART;TZID=Europe/Berlin:20260422T193000
DTEND;TZID=Europe/Berlin:20260422T220000
DTSTAMP:20260419T143505
CREATED:20260328T182859Z
LAST-MODIFIED:20260414T202215Z
UID:26043-1776886200-1776895200@www.pfarrverband-gruenwald.de
SUMMARY:Öffentliche Sitzung des Pfarrverbandsrats
DESCRIPTION:Die vorläufige Tagesordnung können Sie hier anschauen. \nDer Pfarrverbandsrat in Grünwald wurde am 1. März 2026 gewählt anstelle getrennter Pfarrgemeinderäte für die beiden Pfarreien des Pfarrverbands Grünwald. Er tagt alle 6 – 8 Wochen. Die Sitzungen sind grundsätzlich öffentlich und Gäste gerne gesehen.\nFragen und Anregungen für den Pfarrverbandsrat können Sie auch gerne direkt an die einzelnen Mitglieder richten\, persönlich (z.B. nach den Gottesdiensten) oder auch über die Pfarrbüros. \n 
URL:https://www.pfarrverband-gruenwald.de/event/oeffentliche-sitzung-des-pfarrverbandsrats/
LOCATION:Pfarrheim Maria Königin\, Kardinal-Faulhaber-Platz 1\, Grünwald\, Bayern\, 82031\, Deutschland
CATEGORIES:Pfarrgemeinderat,Veranstaltungen
ATTACH;FMTTYPE=image/png:https://www.pfarrverband-gruenwald.de/wp-content/uploads/2026/03/Pfarrverbandsrat_2026-2030.png
END:VEVENT
BEGIN:VEVENT
DTSTART;TZID=Europe/Berlin:20260424T190000
DTEND;TZID=Europe/Berlin:20260424T200000
DTSTAMP:20260419T143505
CREATED:20260326T182144Z
LAST-MODIFIED:20260326T182144Z
UID:25993-1777057200-1777060800@www.pfarrverband-gruenwald.de
SUMMARY:Abendmesse in St. Peter und Paul
DESCRIPTION:Abendmesse am Freitag der 3. Osterwoche \nDie liturgischen Texte des Gottesdienstes für das Lesejahr finden Sie z.B. hier (ohne Gewähr für die Korrektheit) \n 
URL:https://www.pfarrverband-gruenwald.de/event/abendmesse-in-st-peter-und-paul-29/
LOCATION:St. Peter und Paul Kirche\, Schloßstraße 2\, Grünwald\, Bayern\, 82031\, Deutschland
CATEGORIES:Regelmäßige Gottesdienste
ATTACH;FMTTYPE=image/jpeg:https://www.pfarrverband-gruenwald.de/wp-content/uploads/2019/06/DSC_1800.jpg
END:VEVENT
BEGIN:VEVENT
DTSTART;TZID=Europe/Berlin:20260425T130000
DTEND;TZID=Europe/Berlin:20260425T180000
DTSTAMP:20260419T143505
CREATED:20260328T183003Z
LAST-MODIFIED:20260328T183003Z
UID:26045-1777122000-1777140000@www.pfarrverband-gruenwald.de
SUMMARY:5. Gemeinschaftstag der Firmlinge
DESCRIPTION:Die diesjährigen Firmbewerber treffen sich zu ihrem 3. Gemeinschaftstag in Maria Königin und feiern anschließend die Vorabendmesse in Maria Königin mit
URL:https://www.pfarrverband-gruenwald.de/event/5-gemeinschaftstag-der-firmlinge/
LOCATION:Pfarrheim Maria Königin\, Kardinal-Faulhaber-Platz 1\, Grünwald\, Bayern\, 82031\, Deutschland
CATEGORIES:Firmvorbereitung,Veranstaltungen
ATTACH;FMTTYPE=image/jpeg:https://www.pfarrverband-gruenwald.de/wp-content/uploads/2018/06/faltermaier-2011.jpg
END:VEVENT
BEGIN:VEVENT
DTSTART;TZID=Europe/Berlin:20260425T171500
DTEND;TZID=Europe/Berlin:20260425T174500
DTSTAMP:20260419T143505
CREATED:20260326T183058Z
LAST-MODIFIED:20260326T183058Z
UID:25999-1777137300-1777139100@www.pfarrverband-gruenwald.de
SUMMARY:Rosenkranz in Maria Königin
DESCRIPTION:Der Rosenkranz verbindet Marienverehrung und Christusfrömmigkeit\, die Jesus Christus in seiner Entäußerung und seinem Leiden betrachtet.
URL:https://www.pfarrverband-gruenwald.de/event/rosenkranz-in-maria-koenigin-24/
LOCATION:Maria Königin Kirche\, Kardinal-Faulhaber-Platz 1\, Grünwald\, Bayern\, 82031\, Deutschland
CATEGORIES:Besondere Gottesdienste,Regelmäßige Gottesdienste
ATTACH;FMTTYPE=image/jpeg:https://www.pfarrverband-gruenwald.de/wp-content/uploads/2017/12/DSC_9524-1-e1517861061823.jpg
END:VEVENT
BEGIN:VEVENT
DTSTART;TZID=Europe/Berlin:20260425T180000
DTEND;TZID=Europe/Berlin:20260425T190000
DTSTAMP:20260419T143505
CREATED:20260326T184347Z
LAST-MODIFIED:20260326T184347Z
UID:26005-1777140000-1777143600@www.pfarrverband-gruenwald.de
SUMMARY:Vorabendmesse in Maria Königin mit den Firmlingen
DESCRIPTION:am Vorabend des 4. Sonntags der Osterzeit \nDie Liturgischen Texte des Gottesdienstes finden Sie für das gesamte Jahr 2026 z.B. hier (ohne Gewähr für die Korrektheit).
URL:https://www.pfarrverband-gruenwald.de/event/vorabendmesse-in-maria-koenigin-mit-den-firmlingen-2/
LOCATION:Maria Königin Kirche\, Kardinal-Faulhaber-Platz 1\, Grünwald\, Bayern\, 82031\, Deutschland
CATEGORIES:Firmvorbereitung,Regelmäßige Gottesdienste
ATTACH;FMTTYPE=image/jpeg:https://www.pfarrverband-gruenwald.de/wp-content/uploads/2018/01/DSC_9553.jpg
END:VEVENT
BEGIN:VEVENT
DTSTART;TZID=Europe/Berlin:20260426T093000
DTEND;TZID=Europe/Berlin:20260426T103000
DTSTAMP:20260419T143505
CREATED:20260321T191145Z
LAST-MODIFIED:20260321T191145Z
UID:25912-1777195800-1777199400@www.pfarrverband-gruenwald.de
SUMMARY:Wortgottesfeier mit Kommunionausteilung
DESCRIPTION:am 4. Sonntag der Osterzeit (Lesejahr A) \nDie Texte des Gottesdienstes finden Sie hier (ohne Gewähr).
URL:https://www.pfarrverband-gruenwald.de/event/wortgottesfeier-mit-kommunionausteilung-27/
LOCATION:Maria Königin Kirche\, Kardinal-Faulhaber-Platz 1\, Grünwald\, Bayern\, 82031\, Deutschland
CATEGORIES:Regelmäßige Gottesdienste
ATTACH;FMTTYPE=image/jpeg:https://www.pfarrverband-gruenwald.de/wp-content/uploads/2021/04/P1030456-scaled.jpg
END:VEVENT
BEGIN:VEVENT
DTSTART;TZID=Europe/Berlin:20260426T093000
DTEND;TZID=Europe/Berlin:20260426T103000
DTSTAMP:20260419T143505
CREATED:20260326T185136Z
LAST-MODIFIED:20260326T185136Z
UID:26009-1777195800-1777199400@www.pfarrverband-gruenwald.de
SUMMARY:Feier der Eucharistie
DESCRIPTION:am 4. Sonntag der Osterzeit (Lesejahr A)\n \nJeden Sonntag findet um 9.30 Uhr ein Gottesdienst (Eucharistiefeier oder Wortgottesdienst) in der Parkresidenz Helmine Held an der Eierwiese statt. \nGerne können Sie als Externer die Gottesdienste in der Parkresidenz besuchen. Der Zugang ist am besten über den Brunnwartsweg in den Neubau und dann durch den Park zur Kapelle. \nDie liturgischen Texte des Gottesdienstes für das Kirchenjahr finden Sie z.B. hier (ohne Gewähr für die Korrektheit).
URL:https://www.pfarrverband-gruenwald.de/event/feier-der-eucharistie-47/
LOCATION:Parkresidenz Helmine Held\, Auf der Eierwiese 26\, Grünwald\, Bayern\, 82031\, Deutschland
CATEGORIES:Regelmäßige Gottesdienste
ATTACH;FMTTYPE=image/jpeg:https://www.pfarrverband-gruenwald.de/wp-content/uploads/2018/10/DSC_2746.jpg
END:VEVENT
BEGIN:VEVENT
DTSTART;TZID=Europe/Berlin:20260426T110000
DTEND;TZID=Europe/Berlin:20260426T120000
DTSTAMP:20260419T143505
CREATED:20260328T181824Z
LAST-MODIFIED:20260328T181824Z
UID:26037-1777201200-1777204800@www.pfarrverband-gruenwald.de
SUMMARY:Feier der Eucharistie
DESCRIPTION:am 4. Sonntag der Osterzeit (Lesejahr A) \nDie Liturgischen Texte des Gottesdienstes für das Lesejahr finden Sie z.B. hier (ohne Gewähr für die Korrektheit).
URL:https://www.pfarrverband-gruenwald.de/event/feier-der-eucharistie-50/
LOCATION:St. Peter und Paul Kirche\, Schloßstraße 2\, Grünwald\, Bayern\, 82031\, Deutschland
CATEGORIES:Regelmäßige Gottesdienste
ATTACH;FMTTYPE=image/jpeg:https://www.pfarrverband-gruenwald.de/wp-content/uploads/2021/03/P1030433-scaled.jpg
END:VEVENT
BEGIN:VEVENT
DTSTART;TZID=Europe/Berlin:20260426T180000
DTEND;TZID=Europe/Berlin:20260426T200000
DTSTAMP:20260419T143505
CREATED:20260417T093759Z
LAST-MODIFIED:20260417T102135Z
UID:26167-1777226400-1777233600@www.pfarrverband-gruenwald.de
SUMMARY:Bible Talk & Study
DESCRIPTION:Bisher war die Bibel für dich nur sonntags im Gottesdienst von Bedeutung\, aber du möchtest dich mehr mit diesem Heiligen Buch auseinandersetzen?\nSuchst du Gemeinschaft und Austausch mit gleichgesinnten Christinnen und Christen in deinem Alter?\nVerstehst du manchmal nicht viel\, wenn du zuhause in die Bibel schaust\, und hast Fragen?\nDann bist du bei uns genau richtig! Wir sind eine Gruppe von Jugendlichen und jungen Erwachsenen und treffen uns sonntags um 18 Uhr in den Jugendräumen des Pfarrheims St. Peter und Paul\, um uns gemeinsam mit dem Wort Gottes zu beschäftigen. Wir sind keine professionellen Theologen\, aber wir helfen uns gegenseitig auf unserem Glaubensweg und sprechen offen über Fragen\, Zweifel und Impulse\, die beim Bibellesen auftauchen – in einem gemütlichen Kreis mit ein paar Leckereien und Getränken 🙂\nDu bist herzlich eingeladen\, wenn du mehr über Gott und Jesus erfahren möchtest\, verstehen willst\, was die Bibel mit dir und deinem Alltag zu tun hat\, oder einfach mehr über dieses Angebot erfahren willst.\nWir freuen uns auf dich nächsten Sonntagabend! 🙂\nWenn du vorhast zu kommen\, melde dich gern bei mir unter varga.gabriella@t-online.de\, damit ich die ungefähre Anzahl der Teilnehmer planen kann.\nFalls du spontan Lust hast\, vorbeizukommen – auch kein Problem! \nBis bald\, wir freuen uns auf dich!
URL:https://www.pfarrverband-gruenwald.de/event/bible-talk-study/
LOCATION:Pfarrheim St. Peter und Paul\, Schlossstraße 2\, Grünwald\, Bayern\, 82031\, Deutschland
CATEGORIES:Veranstaltungen
ATTACH;FMTTYPE=image/png:https://www.pfarrverband-gruenwald.de/wp-content/uploads/2026/04/Bible-Study-April-2026.png
END:VEVENT
BEGIN:VEVENT
DTSTART;TZID=Europe/Berlin:20260429T180000
DTEND;TZID=Europe/Berlin:20260429T183000
DTSTAMP:20260419T143505
CREATED:20260321T192732Z
LAST-MODIFIED:20260321T192732Z
UID:25926-1777485600-1777487400@www.pfarrverband-gruenwald.de
SUMMARY:Eucharistische Anbetung
DESCRIPTION:Bei der eucharistischen Anbetung beten wir Jesus an\, der im Leib Christi\, der Hostie\, gegenwärtig ist. Nach unserem Glauben ist Jesus nach der Wandlung von Brot und Wein in Leib und Blut Christi wirklich gegenwärtig. Der so anwesende Herr wird bei der eucharistischen Anbetung verehrt. Bei der eucharistischen Anbetung besteht die Möglichkeit\, den Sohn Gottes unter den Zeichen von Brot und Wein anzubeten.
URL:https://www.pfarrverband-gruenwald.de/event/eucharistische-anbetung-5/
LOCATION:Kapelle von Maria Königin\, Kardinal-Faulhaber-Platz 1\, Grünwald\, Bayern\, 82031\, Deutschland
CATEGORIES:Besondere Gottesdienste
ATTACH;FMTTYPE=image/png:https://www.pfarrverband-gruenwald.de/wp-content/uploads/2026/03/Monstranz-PP.png
END:VEVENT
BEGIN:VEVENT
DTSTART;TZID=Europe/Berlin:20260429T190000
DTEND;TZID=Europe/Berlin:20260429T200000
DTSTAMP:20260419T143505
CREATED:20260321T193403Z
LAST-MODIFIED:20260417T104612Z
UID:25937-1777489200-1777492800@www.pfarrverband-gruenwald.de
SUMMARY:Abendmesse in Maria Königin
DESCRIPTION:am Mittwoch der 4. Osterwoche  \nFest der Hl. Katharina von Siena\, Ordensfrau\, Kirchenlehrerin\, Patronin Europas (1380) \nDie Liturgischen Texte des Gottesdienstes für das Lesejahr finden Sie z.B. hier (ohne Gewähr für die Korrektheit).
URL:https://www.pfarrverband-gruenwald.de/event/abendmesse-in-maria-koenigin-32/
LOCATION:Kapelle von Maria Königin\, Kardinal-Faulhaber-Platz 1\, Grünwald\, Bayern\, 82031\, Deutschland
CATEGORIES:Regelmäßige Gottesdienste
ATTACH;FMTTYPE=image/jpeg:https://www.pfarrverband-gruenwald.de/wp-content/uploads/2026/04/Maria-Koenigin-Kapelle-2-scaled.jpg
END:VEVENT
BEGIN:VEVENT
DTSTART;TZID=Europe/Berlin:20260429T193000
DTEND;TZID=Europe/Berlin:20260429T213000
DTSTAMP:20260419T143505
CREATED:20260328T180747Z
LAST-MODIFIED:20260328T180747Z
UID:26025-1777491000-1777498200@www.pfarrverband-gruenwald.de
SUMMARY:Das Jahr mit der Bibel: "The Chosen"
DESCRIPTION:Seit September 2025 gibt es ein neues „Jahr mit der Bibel“. Im Rahmen dieser Reihe wird jeweils eine Folge der Serie „The Chosen“ im Pfarrheim gezeigt (ca. 45 min) – dieses Jahr in Maria Königin. Die Serie „The Chosen“ ist eine spannende Verfilmung des Lebens Jesu\, in der die Person Jesu aus dem Erleben der Jünger in ihren vielen Facetten erlebbar wird. Die Serie wurde in den USA nicht nur unter jungen Leuten sehr populär und schließlich auch in deutscher Sprache synchronisiert. Sie bietet viele Anregungen\, so dass im Anschluss zusammen mit Diakon Kuper sicherlich ein lebhaftes Gespräch entstehen wird.  Näheres zur Serie z.B. auf Wikipedia.
URL:https://www.pfarrverband-gruenwald.de/event/das-jahr-mit-der-bibel-the-chosen-9/
LOCATION:Pfarrheim Maria Königin\, Kardinal-Faulhaber-Platz 1\, Grünwald\, Bayern\, 82031\, Deutschland
CATEGORIES:Glaubensgespräch,Jahr mit der Bibel,Veranstaltungen
ATTACH;FMTTYPE=image/jpeg:https://www.pfarrverband-gruenwald.de/wp-content/uploads/2018/06/P1010584.jpg
END:VEVENT
END:VCALENDAR