BEGIN:VCALENDAR
VERSION:2.0
PRODID:-//Pfarrverband Grünwald - ECPv6.15.20//NONSGML v1.0//EN
CALSCALE:GREGORIAN
METHOD:PUBLISH
X-WR-CALNAME:Pfarrverband Grünwald
X-ORIGINAL-URL:https://www.pfarrverband-gruenwald.de
X-WR-CALDESC:Veranstaltungen für Pfarrverband Grünwald
REFRESH-INTERVAL;VALUE=DURATION:PT1H
X-Robots-Tag:noindex
X-PUBLISHED-TTL:PT1H
BEGIN:VTIMEZONE
TZID:Europe/Berlin
BEGIN:DAYLIGHT
TZOFFSETFROM:+0100
TZOFFSETTO:+0200
TZNAME:CEST
DTSTART:20250330T010000
END:DAYLIGHT
BEGIN:STANDARD
TZOFFSETFROM:+0200
TZOFFSETTO:+0100
TZNAME:CET
DTSTART:20251026T010000
END:STANDARD
BEGIN:DAYLIGHT
TZOFFSETFROM:+0100
TZOFFSETTO:+0200
TZNAME:CEST
DTSTART:20260329T010000
END:DAYLIGHT
BEGIN:STANDARD
TZOFFSETFROM:+0200
TZOFFSETTO:+0100
TZNAME:CET
DTSTART:20261025T010000
END:STANDARD
BEGIN:DAYLIGHT
TZOFFSETFROM:+0100
TZOFFSETTO:+0200
TZNAME:CEST
DTSTART:20270328T010000
END:DAYLIGHT
BEGIN:STANDARD
TZOFFSETFROM:+0200
TZOFFSETTO:+0100
TZNAME:CET
DTSTART:20271031T010000
END:STANDARD
END:VTIMEZONE
BEGIN:VEVENT
DTSTART;TZID=Europe/Berlin:20260503T180000
DTEND;TZID=Europe/Berlin:20260503T200000
DTSTAMP:20260419T155952
CREATED:20260417T101746Z
LAST-MODIFIED:20260417T101755Z
UID:26175-1777831200-1777838400@www.pfarrverband-gruenwald.de
SUMMARY:Bible Talk & Study
DESCRIPTION:Bisher war die Bibel für dich nur sonntags im Gottesdienst von Bedeutung\, aber du möchtest dich mehr mit diesem Heiligen Buch auseinandersetzen?\nSuchst du Gemeinschaft und Austausch mit gleichgesinnten Christinnen und Christen in deinem Alter?\nVerstehst du manchmal nicht viel\, wenn du zuhause in die Bibel schaust\, und hast Fragen?\nDann bist du bei uns genau richtig! Wir sind eine Gruppe von Jugendlichen und jungen Erwachsenen und treffen uns sonntags um 18 Uhr in den Jugendräumen des Pfarrheims St. Peter und Paul\, um uns gemeinsam mit dem Wort Gottes zu beschäftigen. Wir sind keine professionellen Theologen\, aber wir helfen uns gegenseitig auf unserem Glaubensweg und sprechen offen über Fragen\, Zweifel und Impulse\, die beim Bibellesen auftauchen – in einem gemütlichen Kreis mit ein paar Leckereien und Getränken 🙂\nDu bist herzlich eingeladen\, wenn du mehr über Gott und Jesus erfahren möchtest\, verstehen willst\, was die Bibel mit dir und deinem Alltag zu tun hat\, oder einfach mehr über dieses Angebot erfahren willst.\nWir freuen uns auf dich nächsten Sonntagabend! 🙂\nWenn du vorhast zu kommen\, melde dich gern bei mir unter varga.gabriella@t-online.de\, damit ich die ungefähre Anzahl der Teilnehmer planen kann.\nFalls du spontan Lust hast\, vorbeizukommen – auch kein Problem! \nBis bald\, wir freuen uns auf dich!
URL:https://www.pfarrverband-gruenwald.de/event/bible-talk-study-2/
LOCATION:Pfarrheim St. Peter und Paul\, Schlossstraße 2\, Grünwald\, Bayern\, 82031\, Deutschland
CATEGORIES:Veranstaltungen
ATTACH;FMTTYPE=image/png:https://www.pfarrverband-gruenwald.de/wp-content/uploads/2026/04/Bible-Study-April-2026.png
END:VEVENT
BEGIN:VEVENT
DTSTART;TZID=Europe/Berlin:20260506T180000
DTEND;TZID=Europe/Berlin:20260506T183000
DTSTAMP:20260419T155952
CREATED:20260326T174850Z
LAST-MODIFIED:20260326T174850Z
UID:25985-1778090400-1778092200@www.pfarrverband-gruenwald.de
SUMMARY:Eucharistische Anbetung
DESCRIPTION:Bei der eucharistischen Anbetung beten wir Jesus an\, der im Leib Christi\, der Hostie\, gegenwärtig ist. Nach unserem Glauben ist Jesus nach der Wandlung von Brot und Wein in Leib und Blut Christi wirklich gegenwärtig. Der so anwesende Herr wird bei der eucharistischen Anbetung verehrt. Bei der eucharistischen Anbetung besteht die Möglichkeit\, den Sohn Gottes unter den Zeichen von Brot und Wein anzubeten.
URL:https://www.pfarrverband-gruenwald.de/event/eucharistische-anbetung-6/
LOCATION:Kapelle von Maria Königin\, Kardinal-Faulhaber-Platz 1\, Grünwald\, Bayern\, 82031\, Deutschland
CATEGORIES:Besondere Gottesdienste
ATTACH;FMTTYPE=image/png:https://www.pfarrverband-gruenwald.de/wp-content/uploads/2026/03/Monstranz-PP.png
END:VEVENT
BEGIN:VEVENT
DTSTART;TZID=Europe/Berlin:20260510T180000
DTEND;TZID=Europe/Berlin:20260510T200000
DTSTAMP:20260419T155952
CREATED:20260417T101911Z
LAST-MODIFIED:20260417T101911Z
UID:26177-1778436000-1778443200@www.pfarrverband-gruenwald.de
SUMMARY:Bible Talk & Study
DESCRIPTION:Bisher war die Bibel für dich nur sonntags im Gottesdienst von Bedeutung\, aber du möchtest dich mehr mit diesem Heiligen Buch auseinandersetzen?\nSuchst du Gemeinschaft und Austausch mit gleichgesinnten Christinnen und Christen in deinem Alter?\nVerstehst du manchmal nicht viel\, wenn du zuhause in die Bibel schaust\, und hast Fragen?\nDann bist du bei uns genau richtig! Wir sind eine Gruppe von Jugendlichen und jungen Erwachsenen und treffen uns sonntags um 18 Uhr in den Jugendräumen des Pfarrheims St. Peter und Paul\, um uns gemeinsam mit dem Wort Gottes zu beschäftigen. Wir sind keine professionellen Theologen\, aber wir helfen uns gegenseitig auf unserem Glaubensweg und sprechen offen über Fragen\, Zweifel und Impulse\, die beim Bibellesen auftauchen – in einem gemütlichen Kreis mit ein paar Leckereien und Getränken 🙂\nDu bist herzlich eingeladen\, wenn du mehr über Gott und Jesus erfahren möchtest\, verstehen willst\, was die Bibel mit dir und deinem Alltag zu tun hat\, oder einfach mehr über dieses Angebot erfahren willst.\nWir freuen uns auf dich nächsten Sonntagabend! 🙂\nWenn du vorhast zu kommen\, melde dich gern bei mir unter varga.gabriella@t-online.de\, damit ich die ungefähre Anzahl der Teilnehmer planen kann.\nFalls du spontan Lust hast\, vorbeizukommen – auch kein Problem! \nBis bald\, wir freuen uns auf dich!
URL:https://www.pfarrverband-gruenwald.de/event/bible-talk-study-3/
LOCATION:Pfarrheim St. Peter und Paul\, Schlossstraße 2\, Grünwald\, Bayern\, 82031\, Deutschland
CATEGORIES:Veranstaltungen
ATTACH;FMTTYPE=image/png:https://www.pfarrverband-gruenwald.de/wp-content/uploads/2026/04/Bible-Study-April-2026.png
END:VEVENT
BEGIN:VEVENT
DTSTART;TZID=Europe/Berlin:20260524T180000
DTEND;TZID=Europe/Berlin:20260524T200000
DTSTAMP:20260419T155952
CREATED:20260417T101940Z
LAST-MODIFIED:20260417T101940Z
UID:26179-1779645600-1779652800@www.pfarrverband-gruenwald.de
SUMMARY:Bible Talk & Study
DESCRIPTION:Bisher war die Bibel für dich nur sonntags im Gottesdienst von Bedeutung\, aber du möchtest dich mehr mit diesem Heiligen Buch auseinandersetzen?\nSuchst du Gemeinschaft und Austausch mit gleichgesinnten Christinnen und Christen in deinem Alter?\nVerstehst du manchmal nicht viel\, wenn du zuhause in die Bibel schaust\, und hast Fragen?\nDann bist du bei uns genau richtig! Wir sind eine Gruppe von Jugendlichen und jungen Erwachsenen und treffen uns sonntags um 18 Uhr in den Jugendräumen des Pfarrheims St. Peter und Paul\, um uns gemeinsam mit dem Wort Gottes zu beschäftigen. Wir sind keine professionellen Theologen\, aber wir helfen uns gegenseitig auf unserem Glaubensweg und sprechen offen über Fragen\, Zweifel und Impulse\, die beim Bibellesen auftauchen – in einem gemütlichen Kreis mit ein paar Leckereien und Getränken 🙂\nDu bist herzlich eingeladen\, wenn du mehr über Gott und Jesus erfahren möchtest\, verstehen willst\, was die Bibel mit dir und deinem Alltag zu tun hat\, oder einfach mehr über dieses Angebot erfahren willst.\nWir freuen uns auf dich nächsten Sonntagabend! 🙂\nWenn du vorhast zu kommen\, melde dich gern bei mir unter varga.gabriella@t-online.de\, damit ich die ungefähre Anzahl der Teilnehmer planen kann.\nFalls du spontan Lust hast\, vorbeizukommen – auch kein Problem! \nBis bald\, wir freuen uns auf dich!
URL:https://www.pfarrverband-gruenwald.de/event/bible-talk-study-4/
LOCATION:Pfarrheim St. Peter und Paul\, Schlossstraße 2\, Grünwald\, Bayern\, 82031\, Deutschland
CATEGORIES:Veranstaltungen
ATTACH;FMTTYPE=image/png:https://www.pfarrverband-gruenwald.de/wp-content/uploads/2026/04/Bible-Study-April-2026.png
END:VEVENT
BEGIN:VEVENT
DTSTART;TZID=Europe/Berlin:20260531T180000
DTEND;TZID=Europe/Berlin:20260531T200000
DTSTAMP:20260419T155952
CREATED:20260417T102103Z
LAST-MODIFIED:20260417T102103Z
UID:26181-1780250400-1780257600@www.pfarrverband-gruenwald.de
SUMMARY:Bible Talk & Study
DESCRIPTION:Bisher war die Bibel für dich nur sonntags im Gottesdienst von Bedeutung\, aber du möchtest dich mehr mit diesem Heiligen Buch auseinandersetzen?\nSuchst du Gemeinschaft und Austausch mit gleichgesinnten Christinnen und Christen in deinem Alter?\nVerstehst du manchmal nicht viel\, wenn du zuhause in die Bibel schaust\, und hast Fragen?\nDann bist du bei uns genau richtig! Wir sind eine Gruppe von Jugendlichen und jungen Erwachsenen und treffen uns sonntags um 18 Uhr in den Jugendräumen des Pfarrheims St. Peter und Paul\, um uns gemeinsam mit dem Wort Gottes zu beschäftigen. Wir sind keine professionellen Theologen\, aber wir helfen uns gegenseitig auf unserem Glaubensweg und sprechen offen über Fragen\, Zweifel und Impulse\, die beim Bibellesen auftauchen – in einem gemütlichen Kreis mit ein paar Leckereien und Getränken 🙂\nDu bist herzlich eingeladen\, wenn du mehr über Gott und Jesus erfahren möchtest\, verstehen willst\, was die Bibel mit dir und deinem Alltag zu tun hat\, oder einfach mehr über dieses Angebot erfahren willst.\nWir freuen uns auf dich nächsten Sonntagabend! 🙂\nWenn du vorhast zu kommen\, melde dich gern bei mir unter varga.gabriella@t-online.de\, damit ich die ungefähre Anzahl der Teilnehmer planen kann.\nFalls du spontan Lust hast\, vorbeizukommen – auch kein Problem! \nBis bald\, wir freuen uns auf dich!
URL:https://www.pfarrverband-gruenwald.de/event/bible-talk-study-5/
LOCATION:Pfarrheim St. Peter und Paul\, Schlossstraße 2\, Grünwald\, Bayern\, 82031\, Deutschland
CATEGORIES:Veranstaltungen
ATTACH;FMTTYPE=image/png:https://www.pfarrverband-gruenwald.de/wp-content/uploads/2026/04/Bible-Study-April-2026.png
END:VEVENT
END:VCALENDAR