BEGIN:VCALENDAR
VERSION:2.0
PRODID:-//Pfarrverband Grünwald - ECPv6.15.20//NONSGML v1.0//EN
CALSCALE:GREGORIAN
METHOD:PUBLISH
X-WR-CALNAME:Pfarrverband Grünwald
X-ORIGINAL-URL:https://www.pfarrverband-gruenwald.de
X-WR-CALDESC:Veranstaltungen für Pfarrverband Grünwald
REFRESH-INTERVAL;VALUE=DURATION:PT1H
X-Robots-Tag:noindex
X-PUBLISHED-TTL:PT1H
BEGIN:VTIMEZONE
TZID:Europe/Berlin
BEGIN:DAYLIGHT
TZOFFSETFROM:+0100
TZOFFSETTO:+0200
TZNAME:CEST
DTSTART:20250330T010000
END:DAYLIGHT
BEGIN:STANDARD
TZOFFSETFROM:+0200
TZOFFSETTO:+0100
TZNAME:CET
DTSTART:20251026T010000
END:STANDARD
BEGIN:DAYLIGHT
TZOFFSETFROM:+0100
TZOFFSETTO:+0200
TZNAME:CEST
DTSTART:20260329T010000
END:DAYLIGHT
BEGIN:STANDARD
TZOFFSETFROM:+0200
TZOFFSETTO:+0100
TZNAME:CET
DTSTART:20261025T010000
END:STANDARD
BEGIN:DAYLIGHT
TZOFFSETFROM:+0100
TZOFFSETTO:+0200
TZNAME:CEST
DTSTART:20270328T010000
END:DAYLIGHT
BEGIN:STANDARD
TZOFFSETFROM:+0200
TZOFFSETTO:+0100
TZNAME:CET
DTSTART:20271031T010000
END:STANDARD
END:VTIMEZONE
BEGIN:VEVENT
DTSTART;TZID=Europe/Berlin:20260509T171500
DTEND;TZID=Europe/Berlin:20260509T174500
DTSTAMP:20260421T144445
CREATED:20260420T150046Z
LAST-MODIFIED:20260420T150046Z
UID:26211-1778346900-1778348700@www.pfarrverband-gruenwald.de
SUMMARY:Rosenkranz in Maria Königin
DESCRIPTION:Der Rosenkranz verbindet Marienverehrung und Christusfrömmigkeit\, die Jesus Christus in seiner Entäußerung und seinem Leiden betrachtet.
URL:https://www.pfarrverband-gruenwald.de/event/rosenkranz-in-maria-koenigin-26/
LOCATION:Maria Königin Kirche\, Kardinal-Faulhaber-Platz 1\, Grünwald\, Bayern\, 82031\, Deutschland
CATEGORIES:Besondere Gottesdienste,Regelmäßige Gottesdienste
ATTACH;FMTTYPE=image/jpeg:https://www.pfarrverband-gruenwald.de/wp-content/uploads/2017/12/DSC_9524-1-e1517861061823.jpg
END:VEVENT
BEGIN:VEVENT
DTSTART;TZID=Europe/Berlin:20260509T180000
DTEND;TZID=Europe/Berlin:20260509T190000
DTSTAMP:20260421T144445
CREATED:20260420T150811Z
LAST-MODIFIED:20260420T150811Z
UID:26221-1778349600-1778353200@www.pfarrverband-gruenwald.de
SUMMARY:Vorabendmesse in Maria Königin
DESCRIPTION:am Vorabend des 6. Sonntags der Osterzeit \nDie Liturgischen Texte des Gottesdienstes finden Sie für das gesamte Jahr 2026 z.B. hier (ohne Gewähr für die Korrektheit).
URL:https://www.pfarrverband-gruenwald.de/event/vorabendmesse-in-maria-koenigin-24/
LOCATION:Maria Königin Kirche\, Kardinal-Faulhaber-Platz 1\, Grünwald\, Bayern\, 82031\, Deutschland
CATEGORIES:Regelmäßige Gottesdienste
ATTACH;FMTTYPE=image/jpeg:https://www.pfarrverband-gruenwald.de/wp-content/uploads/2018/01/DSC_9553.jpg
END:VEVENT
END:VCALENDAR