BEGIN:VCALENDAR
VERSION:2.0
PRODID:-//Pfarrverband Grünwald - ECPv6.15.20//NONSGML v1.0//EN
CALSCALE:GREGORIAN
METHOD:PUBLISH
X-ORIGINAL-URL:https://www.pfarrverband-gruenwald.de
X-WR-CALDESC:Veranstaltungen für Pfarrverband Grünwald
REFRESH-INTERVAL;VALUE=DURATION:PT1H
X-Robots-Tag:noindex
X-PUBLISHED-TTL:PT1H
BEGIN:VTIMEZONE
TZID:Europe/Berlin
BEGIN:DAYLIGHT
TZOFFSETFROM:+0100
TZOFFSETTO:+0200
TZNAME:CEST
DTSTART:20250330T010000
END:DAYLIGHT
BEGIN:STANDARD
TZOFFSETFROM:+0200
TZOFFSETTO:+0100
TZNAME:CET
DTSTART:20251026T010000
END:STANDARD
BEGIN:DAYLIGHT
TZOFFSETFROM:+0100
TZOFFSETTO:+0200
TZNAME:CEST
DTSTART:20260329T010000
END:DAYLIGHT
BEGIN:STANDARD
TZOFFSETFROM:+0200
TZOFFSETTO:+0100
TZNAME:CET
DTSTART:20261025T010000
END:STANDARD
BEGIN:DAYLIGHT
TZOFFSETFROM:+0100
TZOFFSETTO:+0200
TZNAME:CEST
DTSTART:20270328T010000
END:DAYLIGHT
BEGIN:STANDARD
TZOFFSETFROM:+0200
TZOFFSETTO:+0100
TZNAME:CET
DTSTART:20271031T010000
END:STANDARD
END:VTIMEZONE
BEGIN:VEVENT
DTSTART;TZID=Europe/Berlin:20260426T093000
DTEND;TZID=Europe/Berlin:20260426T103000
DTSTAMP:20260419T160139
CREATED:20260321T191145Z
LAST-MODIFIED:20260321T191145Z
UID:25912-1777195800-1777199400@www.pfarrverband-gruenwald.de
SUMMARY:Wortgottesfeier mit Kommunionausteilung
DESCRIPTION:am 4. Sonntag der Osterzeit (Lesejahr A) \nDie Texte des Gottesdienstes finden Sie hier (ohne Gewähr).
URL:https://www.pfarrverband-gruenwald.de/event/wortgottesfeier-mit-kommunionausteilung-27/
LOCATION:Maria Königin Kirche\, Kardinal-Faulhaber-Platz 1\, Grünwald\, Bayern\, 82031\, Deutschland
CATEGORIES:Regelmäßige Gottesdienste
ATTACH;FMTTYPE=image/jpeg:https://www.pfarrverband-gruenwald.de/wp-content/uploads/2021/04/P1030456-scaled.jpg
END:VEVENT
BEGIN:VEVENT
DTSTART;TZID=Europe/Berlin:20260426T093000
DTEND;TZID=Europe/Berlin:20260426T103000
DTSTAMP:20260419T160139
CREATED:20260326T185136Z
LAST-MODIFIED:20260326T185136Z
UID:26009-1777195800-1777199400@www.pfarrverband-gruenwald.de
SUMMARY:Feier der Eucharistie
DESCRIPTION:am 4. Sonntag der Osterzeit (Lesejahr A)\n \nJeden Sonntag findet um 9.30 Uhr ein Gottesdienst (Eucharistiefeier oder Wortgottesdienst) in der Parkresidenz Helmine Held an der Eierwiese statt. \nGerne können Sie als Externer die Gottesdienste in der Parkresidenz besuchen. Der Zugang ist am besten über den Brunnwartsweg in den Neubau und dann durch den Park zur Kapelle. \nDie liturgischen Texte des Gottesdienstes für das Kirchenjahr finden Sie z.B. hier (ohne Gewähr für die Korrektheit).
URL:https://www.pfarrverband-gruenwald.de/event/feier-der-eucharistie-47/
LOCATION:Parkresidenz Helmine Held\, Auf der Eierwiese 26\, Grünwald\, Bayern\, 82031\, Deutschland
CATEGORIES:Regelmäßige Gottesdienste
ATTACH;FMTTYPE=image/jpeg:https://www.pfarrverband-gruenwald.de/wp-content/uploads/2018/10/DSC_2746.jpg
END:VEVENT
BEGIN:VEVENT
DTSTART;TZID=Europe/Berlin:20260426T110000
DTEND;TZID=Europe/Berlin:20260426T120000
DTSTAMP:20260419T160139
CREATED:20260328T181824Z
LAST-MODIFIED:20260328T181824Z
UID:26037-1777201200-1777204800@www.pfarrverband-gruenwald.de
SUMMARY:Feier der Eucharistie
DESCRIPTION:am 4. Sonntag der Osterzeit (Lesejahr A) \nDie Liturgischen Texte des Gottesdienstes für das Lesejahr finden Sie z.B. hier (ohne Gewähr für die Korrektheit).
URL:https://www.pfarrverband-gruenwald.de/event/feier-der-eucharistie-50/
LOCATION:St. Peter und Paul Kirche\, Schloßstraße 2\, Grünwald\, Bayern\, 82031\, Deutschland
CATEGORIES:Regelmäßige Gottesdienste
ATTACH;FMTTYPE=image/jpeg:https://www.pfarrverband-gruenwald.de/wp-content/uploads/2021/03/P1030433-scaled.jpg
END:VEVENT
BEGIN:VEVENT
DTSTART;TZID=Europe/Berlin:20260426T180000
DTEND;TZID=Europe/Berlin:20260426T200000
DTSTAMP:20260419T160139
CREATED:20260417T093759Z
LAST-MODIFIED:20260417T102135Z
UID:26167-1777226400-1777233600@www.pfarrverband-gruenwald.de
SUMMARY:Bible Talk & Study
DESCRIPTION:Bisher war die Bibel für dich nur sonntags im Gottesdienst von Bedeutung\, aber du möchtest dich mehr mit diesem Heiligen Buch auseinandersetzen?\nSuchst du Gemeinschaft und Austausch mit gleichgesinnten Christinnen und Christen in deinem Alter?\nVerstehst du manchmal nicht viel\, wenn du zuhause in die Bibel schaust\, und hast Fragen?\nDann bist du bei uns genau richtig! Wir sind eine Gruppe von Jugendlichen und jungen Erwachsenen und treffen uns sonntags um 18 Uhr in den Jugendräumen des Pfarrheims St. Peter und Paul\, um uns gemeinsam mit dem Wort Gottes zu beschäftigen. Wir sind keine professionellen Theologen\, aber wir helfen uns gegenseitig auf unserem Glaubensweg und sprechen offen über Fragen\, Zweifel und Impulse\, die beim Bibellesen auftauchen – in einem gemütlichen Kreis mit ein paar Leckereien und Getränken 🙂\nDu bist herzlich eingeladen\, wenn du mehr über Gott und Jesus erfahren möchtest\, verstehen willst\, was die Bibel mit dir und deinem Alltag zu tun hat\, oder einfach mehr über dieses Angebot erfahren willst.\nWir freuen uns auf dich nächsten Sonntagabend! 🙂\nWenn du vorhast zu kommen\, melde dich gern bei mir unter varga.gabriella@t-online.de\, damit ich die ungefähre Anzahl der Teilnehmer planen kann.\nFalls du spontan Lust hast\, vorbeizukommen – auch kein Problem! \nBis bald\, wir freuen uns auf dich!
URL:https://www.pfarrverband-gruenwald.de/event/bible-talk-study/
LOCATION:Pfarrheim St. Peter und Paul\, Schlossstraße 2\, Grünwald\, Bayern\, 82031\, Deutschland
CATEGORIES:Veranstaltungen
ATTACH;FMTTYPE=image/png:https://www.pfarrverband-gruenwald.de/wp-content/uploads/2026/04/Bible-Study-April-2026.png
END:VEVENT
END:VCALENDAR