BEGIN:VCALENDAR
VERSION:2.0
PRODID:-//Pfarrverband Grünwald - ECPv6.15.20//NONSGML v1.0//EN
CALSCALE:GREGORIAN
METHOD:PUBLISH
X-WR-CALNAME:Pfarrverband Grünwald
X-ORIGINAL-URL:https://www.pfarrverband-gruenwald.de
X-WR-CALDESC:Veranstaltungen für Pfarrverband Grünwald
REFRESH-INTERVAL;VALUE=DURATION:PT1H
X-Robots-Tag:noindex
X-PUBLISHED-TTL:PT1H
BEGIN:VTIMEZONE
TZID:Europe/Berlin
BEGIN:DAYLIGHT
TZOFFSETFROM:+0100
TZOFFSETTO:+0200
TZNAME:CEST
DTSTART:20250330T010000
END:DAYLIGHT
BEGIN:STANDARD
TZOFFSETFROM:+0200
TZOFFSETTO:+0100
TZNAME:CET
DTSTART:20251026T010000
END:STANDARD
BEGIN:DAYLIGHT
TZOFFSETFROM:+0100
TZOFFSETTO:+0200
TZNAME:CEST
DTSTART:20260329T010000
END:DAYLIGHT
BEGIN:STANDARD
TZOFFSETFROM:+0200
TZOFFSETTO:+0100
TZNAME:CET
DTSTART:20261025T010000
END:STANDARD
BEGIN:DAYLIGHT
TZOFFSETFROM:+0100
TZOFFSETTO:+0200
TZNAME:CEST
DTSTART:20270328T010000
END:DAYLIGHT
BEGIN:STANDARD
TZOFFSETFROM:+0200
TZOFFSETTO:+0100
TZNAME:CET
DTSTART:20271031T010000
END:STANDARD
END:VTIMEZONE
BEGIN:VEVENT
DTSTART;TZID=Europe/Berlin:20260417T170000
DTEND;TZID=Europe/Berlin:20260418T090000
DTSTAMP:20260419T155723
CREATED:20260328T180918Z
LAST-MODIFIED:20260328T180918Z
UID:26027-1776445200-1776502800@www.pfarrverband-gruenwald.de
SUMMARY:Kirchennacht mit den Erstkommunionkindern bis Samstag
DESCRIPTION:Zur Vorbereitung auf die Erstkommunion.
URL:https://www.pfarrverband-gruenwald.de/event/kirchennacht-mit-den-erstkommunionkindern-bis-samstag/
LOCATION:Maria Königin Kirche\, Kardinal-Faulhaber-Platz 1\, Grünwald\, Bayern\, 82031\, Deutschland
CATEGORIES:Besondere Gottesdienste,Kinder- und Familiengottesdienste,Veranstaltungen
ATTACH;FMTTYPE=image/jpeg:https://www.pfarrverband-gruenwald.de/wp-content/uploads/2023/05/Erstkommunion-MK-GruppeA-22.jpg
END:VEVENT
BEGIN:VEVENT
DTSTART;TZID=Europe/Berlin:20260417T183000
DTEND;TZID=Europe/Berlin:20260417T190000
DTSTAMP:20260419T155723
CREATED:20260328T181015Z
LAST-MODIFIED:20260328T181015Z
UID:26029-1776450600-1776452400@www.pfarrverband-gruenwald.de
SUMMARY:Gelegenheit zur Beichte vor der Abendmesse
DESCRIPTION:Vor der Abendmesse laden wir dazu ein\, das Sakrament der Versöhnung zu empfangen.
URL:https://www.pfarrverband-gruenwald.de/event/gelegenheit-zur-beichte-vor-der-abendmesse-7/
LOCATION:St. Peter und Paul Kirche\, Schloßstraße 2\, Grünwald\, Bayern\, 82031\, Deutschland
CATEGORIES:Besondere Gottesdienste,Veranstaltungen
ATTACH;FMTTYPE=image/jpeg:https://www.pfarrverband-gruenwald.de/wp-content/uploads/2017/12/DSC_9499.jpg
END:VEVENT
BEGIN:VEVENT
DTSTART;TZID=Europe/Berlin:20260417T190000
DTEND;TZID=Europe/Berlin:20260417T200000
DTSTAMP:20260419T155723
CREATED:20260326T181959Z
LAST-MODIFIED:20260326T181959Z
UID:25991-1776452400-1776456000@www.pfarrverband-gruenwald.de
SUMMARY:Abendmesse in St. Peter und Paul
DESCRIPTION:Abendmesse am Freitag der 2. Osterwoche \nDie liturgischen Texte des Gottesdienstes für das Lesejahr finden Sie z.B. hier (ohne Gewähr für die Korrektheit) \n 
URL:https://www.pfarrverband-gruenwald.de/event/abendmesse-in-st-peter-und-paul-28/
LOCATION:St. Peter und Paul Kirche\, Schloßstraße 2\, Grünwald\, Bayern\, 82031\, Deutschland
CATEGORIES:Regelmäßige Gottesdienste
ATTACH;FMTTYPE=image/jpeg:https://www.pfarrverband-gruenwald.de/wp-content/uploads/2019/06/DSC_1800.jpg
END:VEVENT
END:VCALENDAR