BEGIN:VCALENDAR
VERSION:2.0
PRODID:-//Pfarrverband Grünwald - ECPv6.15.20//NONSGML v1.0//EN
CALSCALE:GREGORIAN
METHOD:PUBLISH
X-ORIGINAL-URL:https://www.pfarrverband-gruenwald.de
X-WR-CALDESC:Veranstaltungen für Pfarrverband Grünwald
REFRESH-INTERVAL;VALUE=DURATION:PT1H
X-Robots-Tag:noindex
X-PUBLISHED-TTL:PT1H
BEGIN:VTIMEZONE
TZID:Europe/Berlin
BEGIN:DAYLIGHT
TZOFFSETFROM:+0100
TZOFFSETTO:+0200
TZNAME:CEST
DTSTART:20250330T010000
END:DAYLIGHT
BEGIN:STANDARD
TZOFFSETFROM:+0200
TZOFFSETTO:+0100
TZNAME:CET
DTSTART:20251026T010000
END:STANDARD
BEGIN:DAYLIGHT
TZOFFSETFROM:+0100
TZOFFSETTO:+0200
TZNAME:CEST
DTSTART:20260329T010000
END:DAYLIGHT
BEGIN:STANDARD
TZOFFSETFROM:+0200
TZOFFSETTO:+0100
TZNAME:CET
DTSTART:20261025T010000
END:STANDARD
BEGIN:DAYLIGHT
TZOFFSETFROM:+0100
TZOFFSETTO:+0200
TZNAME:CEST
DTSTART:20270328T010000
END:DAYLIGHT
BEGIN:STANDARD
TZOFFSETFROM:+0200
TZOFFSETTO:+0100
TZNAME:CET
DTSTART:20271031T010000
END:STANDARD
END:VTIMEZONE
BEGIN:VEVENT
DTSTART;VALUE=DATE:20260412
DTEND;VALUE=DATE:20260414
DTSTAMP:20260419T160141
CREATED:20260321T190807Z
LAST-MODIFIED:20260321T190807Z
UID:25910-1775955600-1776041999@www.pfarrverband-gruenwald.de
SUMMARY:Sonntagsgottesdienst in Maria Königin entfällt!
DESCRIPTION:
URL:https://www.pfarrverband-gruenwald.de/event/sonntagsgottesdienst-in-maria-koenigin-entfaellt/
LOCATION:Maria Königin Kirche\, Kardinal-Faulhaber-Platz 1\, Grünwald\, Bayern\, 82031\, Deutschland
ATTACH;FMTTYPE=image/jpeg:https://www.pfarrverband-gruenwald.de/wp-content/uploads/2021/04/P1030456-scaled.jpg
END:VEVENT
BEGIN:VEVENT
DTSTART;TZID=Europe/Berlin:20260412T093000
DTEND;TZID=Europe/Berlin:20260412T103000
DTSTAMP:20260419T160141
CREATED:20260326T184943Z
LAST-MODIFIED:20260326T184943Z
UID:26007-1775986200-1775989800@www.pfarrverband-gruenwald.de
SUMMARY:Feier der Eucharistie
DESCRIPTION:am 2. Sonntag der Osterzeit (Lesejahr A)\n \nJeden Sonntag findet um 9.30 Uhr ein Gottesdienst (Eucharistiefeier oder Wortgottesdienst) in der Parkresidenz Helmine Held an der Eierwiese statt. \nGerne können Sie als Externer die Gottesdienste in der Parkresidenz besuchen. Der Zugang ist am besten über den Brunnwartsweg in den Neubau und dann durch den Park zur Kapelle. \nDie liturgischen Texte des Gottesdienstes für das Kirchenjahr finden Sie z.B. hier (ohne Gewähr für die Korrektheit).
URL:https://www.pfarrverband-gruenwald.de/event/feier-der-eucharistie-46/
LOCATION:Parkresidenz Helmine Held\, Auf der Eierwiese 26\, Grünwald\, Bayern\, 82031\, Deutschland
CATEGORIES:Regelmäßige Gottesdienste
ATTACH;FMTTYPE=image/jpeg:https://www.pfarrverband-gruenwald.de/wp-content/uploads/2018/10/DSC_2746.jpg
END:VEVENT
BEGIN:VEVENT
DTSTART;TZID=Europe/Berlin:20260412T110000
DTEND;TZID=Europe/Berlin:20260412T120000
DTSTAMP:20260419T160141
CREATED:20260327T130059Z
LAST-MODIFIED:20260327T130112Z
UID:26011-1775991600-1775995200@www.pfarrverband-gruenwald.de
SUMMARY:Feier der Eucharistie
DESCRIPTION:am 2. Sonntag der Osterzeit (Lesejahr A) \nDie Liturgischen Texte des Gottesdienstes für das Lesejahr finden Sie z.B. hier (ohne Gewähr für die Korrektheit).
URL:https://www.pfarrverband-gruenwald.de/event/feier-der-eucharistie-kopie-2/
LOCATION:St. Peter und Paul Kirche\, Schloßstraße 2\, Grünwald\, Bayern\, 82031\, Deutschland
CATEGORIES:Regelmäßige Gottesdienste
ATTACH;FMTTYPE=image/jpeg:https://www.pfarrverband-gruenwald.de/wp-content/uploads/2017/10/st_peter_und_paul_kirche.jpg
END:VEVENT
END:VCALENDAR