BEGIN:VCALENDAR
VERSION:2.0
PRODID:-//Pfarrverband Grünwald - ECPv6.15.20//NONSGML v1.0//EN
CALSCALE:GREGORIAN
METHOD:PUBLISH
X-WR-CALNAME:Pfarrverband Grünwald
X-ORIGINAL-URL:https://www.pfarrverband-gruenwald.de
X-WR-CALDESC:Veranstaltungen für Pfarrverband Grünwald
REFRESH-INTERVAL;VALUE=DURATION:PT1H
X-Robots-Tag:noindex
X-PUBLISHED-TTL:PT1H
BEGIN:VTIMEZONE
TZID:Europe/Berlin
BEGIN:DAYLIGHT
TZOFFSETFROM:+0100
TZOFFSETTO:+0200
TZNAME:CEST
DTSTART:20250330T010000
END:DAYLIGHT
BEGIN:STANDARD
TZOFFSETFROM:+0200
TZOFFSETTO:+0100
TZNAME:CET
DTSTART:20251026T010000
END:STANDARD
BEGIN:DAYLIGHT
TZOFFSETFROM:+0100
TZOFFSETTO:+0200
TZNAME:CEST
DTSTART:20260329T010000
END:DAYLIGHT
BEGIN:STANDARD
TZOFFSETFROM:+0200
TZOFFSETTO:+0100
TZNAME:CET
DTSTART:20261025T010000
END:STANDARD
BEGIN:DAYLIGHT
TZOFFSETFROM:+0100
TZOFFSETTO:+0200
TZNAME:CEST
DTSTART:20270328T010000
END:DAYLIGHT
BEGIN:STANDARD
TZOFFSETFROM:+0200
TZOFFSETTO:+0100
TZNAME:CET
DTSTART:20271031T010000
END:STANDARD
END:VTIMEZONE
BEGIN:VEVENT
DTSTART;TZID=Europe/Berlin:20260409T190000
DTEND;TZID=Europe/Berlin:20260409T210000
DTSTAMP:20260419T155953
CREATED:20260326T175759Z
LAST-MODIFIED:20260326T175926Z
UID:25987-1775761200-1775768400@www.pfarrverband-gruenwald.de
SUMMARY:Taizé-Gebet in der alten Pfarrkirche\, anschließend Brotzeit
DESCRIPTION:Wir treffen uns jeden 2. Donnerstag im Monat um 19:00 in der Pfarrkirche St. Peter und Paul.\n \nDie von Frère Roger Schutz gegründete ökumenische Mönchsgemeinschaft in Taizé (Frankreich) hat eine weltweite Bewegung ausgelöst und zieht bis heute zu ihren ökumenischen Jugendtreffen jährliche Hunderttausende an – nicht nur Jugendliche. Viele haben dort wesentliche Impulse für ihr Leben als Christen in der Welt von heute erfahren. Um diesen Impetus auch im Alltag weiter zu tragen\, gibt es an vielen Orten regelmäßige Treffen zum Gebet und Austausch – so auch in Grünwald. \nJeder ist herzlich eingeladen\, auch ohne Taizé-Erfahrung!
URL:https://www.pfarrverband-gruenwald.de/event/taize-gebet-4/
LOCATION:Alte Pfarrkirche\, Schloßstr. 2\, Grünwald\, 82031\, Deutschland
CATEGORIES:Regelmäßige Gottesdienste,Taizégebet
ATTACH;FMTTYPE=image/jpeg:https://www.pfarrverband-gruenwald.de/wp-content/uploads/2017/12/DSC_9503.jpg
END:VEVENT
END:VCALENDAR