BEGIN:VCALENDAR
VERSION:2.0
PRODID:-//Pfarrverband Grünwald - ECPv6.15.20//NONSGML v1.0//EN
CALSCALE:GREGORIAN
METHOD:PUBLISH
X-ORIGINAL-URL:https://www.pfarrverband-gruenwald.de
X-WR-CALDESC:Veranstaltungen für Pfarrverband Grünwald
REFRESH-INTERVAL;VALUE=DURATION:PT1H
X-Robots-Tag:noindex
X-PUBLISHED-TTL:PT1H
BEGIN:VTIMEZONE
TZID:Europe/Berlin
BEGIN:DAYLIGHT
TZOFFSETFROM:+0100
TZOFFSETTO:+0200
TZNAME:CEST
DTSTART:20250330T010000
END:DAYLIGHT
BEGIN:STANDARD
TZOFFSETFROM:+0200
TZOFFSETTO:+0100
TZNAME:CET
DTSTART:20251026T010000
END:STANDARD
BEGIN:DAYLIGHT
TZOFFSETFROM:+0100
TZOFFSETTO:+0200
TZNAME:CEST
DTSTART:20260329T010000
END:DAYLIGHT
BEGIN:STANDARD
TZOFFSETFROM:+0200
TZOFFSETTO:+0100
TZNAME:CET
DTSTART:20261025T010000
END:STANDARD
BEGIN:DAYLIGHT
TZOFFSETFROM:+0100
TZOFFSETTO:+0200
TZNAME:CEST
DTSTART:20270328T010000
END:DAYLIGHT
BEGIN:STANDARD
TZOFFSETFROM:+0200
TZOFFSETTO:+0100
TZNAME:CET
DTSTART:20271031T010000
END:STANDARD
END:VTIMEZONE
BEGIN:VEVENT
DTSTART;TZID=Europe/Berlin:20260402T170000
DTEND;TZID=Europe/Berlin:20260402T180000
DTSTAMP:20260419T160018
CREATED:20260321T193858Z
LAST-MODIFIED:20260321T193858Z
UID:25939-1775149200-1775152800@www.pfarrverband-gruenwald.de
SUMMARY:Andacht für Familien: "Brot\, das uns stärkt - Jesu letztes Abendmahl"
DESCRIPTION:Für Kinder und Familien feiern wir eine besondere Andacht am Gründonnerstag in der Pfarrkirche Maria Königin
URL:https://www.pfarrverband-gruenwald.de/event/andacht-fuer-familien-brot-das-uns-staerkt-jesu-letztes-abendmahl/
LOCATION:Maria Königin Kirche\, Kardinal-Faulhaber-Platz 1\, Grünwald\, Bayern\, 82031\, Deutschland
CATEGORIES:Besondere Gottesdienste,Kinder- und Familiengottesdienste
ATTACH;FMTTYPE=image/jpeg:https://www.pfarrverband-gruenwald.de/wp-content/uploads/2018/11/DSC_5539.jpg
END:VEVENT
BEGIN:VEVENT
DTSTART;TZID=Europe/Berlin:20260402T190000
DTEND;TZID=Europe/Berlin:20260402T203000
DTSTAMP:20260419T160018
CREATED:20260321T194720Z
LAST-MODIFIED:20260321T194720Z
UID:25941-1775156400-1775161800@www.pfarrverband-gruenwald.de
SUMMARY:Messe vom letzten Abendmahl - Verabschiedung des alten und Vorstellung des neuen Pfarrverbandsrats
DESCRIPTION:Das österliche Triduum beginnt mit der Abendmahlsfeier des Gründonnerstags. Zu Beginn des Gottesdienstes werden die bisherigen Pfarrgemeinderäte der Periode 2022 – 2026 verabschiedet und die neu gewählten und berufenen Mitglieder des Pfarrverbandsrats vorgestellt. Es singt das Vokalensemble unter der Leitung von Alfons Hirth.
URL:https://www.pfarrverband-gruenwald.de/event/messe-vom-letzten-abendmahl-verabschiedung-des-alten-und-vorstellung-des-neuen-pfarrverbandsrats/
LOCATION:Bayern
CATEGORIES:Besondere Gottesdienste,Kirchenmusik
ATTACH;FMTTYPE=image/jpeg:https://www.pfarrverband-gruenwald.de/wp-content/uploads/2018/01/DSC_9566.jpg
END:VEVENT
END:VCALENDAR