BEGIN:VCALENDAR
VERSION:2.0
PRODID:-//Pfarrverband Grünwald - ECPv6.15.20//NONSGML v1.0//EN
CALSCALE:GREGORIAN
METHOD:PUBLISH
X-ORIGINAL-URL:https://www.pfarrverband-gruenwald.de
X-WR-CALDESC:Veranstaltungen für Pfarrverband Grünwald
REFRESH-INTERVAL;VALUE=DURATION:PT1H
X-Robots-Tag:noindex
X-PUBLISHED-TTL:PT1H
BEGIN:VTIMEZONE
TZID:Europe/Berlin
BEGIN:DAYLIGHT
TZOFFSETFROM:+0100
TZOFFSETTO:+0200
TZNAME:CEST
DTSTART:20250330T010000
END:DAYLIGHT
BEGIN:STANDARD
TZOFFSETFROM:+0200
TZOFFSETTO:+0100
TZNAME:CET
DTSTART:20251026T010000
END:STANDARD
BEGIN:DAYLIGHT
TZOFFSETFROM:+0100
TZOFFSETTO:+0200
TZNAME:CEST
DTSTART:20260329T010000
END:DAYLIGHT
BEGIN:STANDARD
TZOFFSETFROM:+0200
TZOFFSETTO:+0100
TZNAME:CET
DTSTART:20261025T010000
END:STANDARD
BEGIN:DAYLIGHT
TZOFFSETFROM:+0100
TZOFFSETTO:+0200
TZNAME:CEST
DTSTART:20270328T010000
END:DAYLIGHT
BEGIN:STANDARD
TZOFFSETFROM:+0200
TZOFFSETTO:+0100
TZNAME:CET
DTSTART:20271031T010000
END:STANDARD
END:VTIMEZONE
BEGIN:VEVENT
DTSTART;TZID=Europe/Berlin:20260303T150000
DTEND;TZID=Europe/Berlin:20260303T170000
DTSTAMP:20260419T173840
CREATED:20260227T190737Z
LAST-MODIFIED:20260227T190737Z
UID:25670-1772550000-1772557200@www.pfarrverband-gruenwald.de
SUMMARY:Einladung zum Stammtisch - Miteinander ins Gespräch kommen im Gutshof Menterschwaige
DESCRIPTION:Miteinander bei einer Brotzeit\, Kaffee und Kuchen ins Gespräch kommen – Gemeinschaft & Ökumene leben – einander begegnen \nan vorerst drei Dienstag-Nachmittagen im Gutshof Menterschwaige. \nAnmeldung erbeten über das Pfarrbüro Maria Königin:\nmaria-koenigin.gruenwald@ebmuc.de\noder Tel. 089 / 641 14 30 \nAlle Infos auf dem verlinkten Flyer!
URL:https://www.pfarrverband-gruenwald.de/event/einladung-zum-stammtisch-miteinander-ins-gespraech-kommen-im-gutshof-menterschwaige/
LOCATION:Gutshof Menterschwaige\, Menterschwaigstraße 4\, München-Harlaching\, Bayern\, 81545\, Germany
CATEGORIES:Veranstaltungen
ATTACH;FMTTYPE=image/png:https://www.pfarrverband-gruenwald.de/wp-content/uploads/2026/01/Stammtisch-Rikscha-Team.png
END:VEVENT
BEGIN:VEVENT
DTSTART;TZID=Europe/Berlin:20260303T183000
DTEND;TZID=Europe/Berlin:20260303T203000
DTSTAMP:20260419T173840
CREATED:20260227T190911Z
LAST-MODIFIED:20260227T190911Z
UID:25672-1772562600-1772569800@www.pfarrverband-gruenwald.de
SUMMARY:Trauertreff im Pfarrheim von Maria Königin
DESCRIPTION:Die Trauer-Gruppe soll ein Treffpunkt sein für diejenigen\, die von einem lieben Menschen Abschied nehmen mussten oder die aus einem anderen Grund einen Verlust in ihrem Leben auszuhalten haben. \nNäheres siehe auf dem verlinkten Flyer!
URL:https://www.pfarrverband-gruenwald.de/event/trauertreff-im-pfarrheim-von-maria-koenigin-2/
LOCATION:Pfarrheim Maria Königin\, Kardinal-Faulhaber-Platz 1\, Grünwald\, Bayern\, 82031\, Deutschland
CATEGORIES:Veranstaltungen
ATTACH;FMTTYPE=image/png:https://www.pfarrverband-gruenwald.de/wp-content/uploads/2024/08/Trauercafe.png
END:VEVENT
END:VCALENDAR