BEGIN:VCALENDAR
VERSION:2.0
PRODID:-//Pfarrverband Grünwald - ECPv6.15.20//NONSGML v1.0//EN
CALSCALE:GREGORIAN
METHOD:PUBLISH
X-WR-CALNAME:Pfarrverband Grünwald
X-ORIGINAL-URL:https://www.pfarrverband-gruenwald.de
X-WR-CALDESC:Veranstaltungen für Pfarrverband Grünwald
REFRESH-INTERVAL;VALUE=DURATION:PT1H
X-Robots-Tag:noindex
X-PUBLISHED-TTL:PT1H
BEGIN:VTIMEZONE
TZID:Europe/Berlin
BEGIN:DAYLIGHT
TZOFFSETFROM:+0100
TZOFFSETTO:+0200
TZNAME:CEST
DTSTART:20250330T010000
END:DAYLIGHT
BEGIN:STANDARD
TZOFFSETFROM:+0200
TZOFFSETTO:+0100
TZNAME:CET
DTSTART:20251026T010000
END:STANDARD
BEGIN:DAYLIGHT
TZOFFSETFROM:+0100
TZOFFSETTO:+0200
TZNAME:CEST
DTSTART:20260329T010000
END:DAYLIGHT
BEGIN:STANDARD
TZOFFSETFROM:+0200
TZOFFSETTO:+0100
TZNAME:CET
DTSTART:20261025T010000
END:STANDARD
BEGIN:DAYLIGHT
TZOFFSETFROM:+0100
TZOFFSETTO:+0200
TZNAME:CEST
DTSTART:20270328T010000
END:DAYLIGHT
BEGIN:STANDARD
TZOFFSETFROM:+0200
TZOFFSETTO:+0100
TZNAME:CET
DTSTART:20271031T010000
END:STANDARD
END:VTIMEZONE
BEGIN:VEVENT
DTSTART;TZID=Europe/Berlin:20260301T093000
DTEND;TZID=Europe/Berlin:20260301T103000
DTSTAMP:20260419T174023
CREATED:20260227T190255Z
LAST-MODIFIED:20260227T190255Z
UID:25664-1772357400-1772361000@www.pfarrverband-gruenwald.de
SUMMARY:Eucharistiefeier\, anschließend Kirchencafé im Pfarrheim
DESCRIPTION:am 2. Fastensonntag (Lesejahr A) \nAnschließend sind Sie herzlich zum Kirchencafé ins Pfarrheim eingeladen. \nDie Liturgischen Texte des Gottesdienstes für das Kirchenjahr finden Sie z.B. hier (ohne Gewähr für die Korrektheit).
URL:https://www.pfarrverband-gruenwald.de/event/eucharistiefeier-anschliessend-kirchencafe-im-pfarrheim-2/
LOCATION:Maria Königin Kirche\, Kardinal-Faulhaber-Platz 1\, Grünwald\, Bayern\, 82031\, Deutschland
CATEGORIES:Regelmäßige Gottesdienste,Veranstaltungen
ATTACH;FMTTYPE=image/jpeg:https://www.pfarrverband-gruenwald.de/wp-content/uploads/2021/01/DSC_9885-scaled.jpg
END:VEVENT
BEGIN:VEVENT
DTSTART;TZID=Europe/Berlin:20260301T093000
DTEND;TZID=Europe/Berlin:20260301T103000
DTSTAMP:20260419T174023
CREATED:20260227T190511Z
LAST-MODIFIED:20260227T190511Z
UID:25666-1772357400-1772361000@www.pfarrverband-gruenwald.de
SUMMARY:Wortgottesfeier mit Kommunionausteilung
DESCRIPTION:am 2. Fastensonntag im Jahreskreis (Lesejahr A)\n \nJeden Sonntag findet um 9.30 Uhr ein Gottesdienst (Eucharistiefeier oder Wortgottesdienst) in der Parkresidenz Helmine Held an der Eierwiese statt. \nGerne können Sie als Externer die Gottesdienste in der Parkresidenz besuchen. Der Zugang ist am besten über den Brunnwartsweg in den Neubau und dann durch den Park zur Kapelle. \nDie liturgischen Texte des Gottesdienstes für das Kirchenjahr finden Sie z.B. hier (ohne Gewähr für die Korrektheit).
URL:https://www.pfarrverband-gruenwald.de/event/wortgottesfeier-mit-kommunionausteilung-23/
LOCATION:Parkresidenz Helmine Held\, Auf der Eierwiese 26\, Grünwald\, Bayern\, 82031\, Deutschland
CATEGORIES:Regelmäßige Gottesdienste
ATTACH;FMTTYPE=image/jpeg:https://www.pfarrverband-gruenwald.de/wp-content/uploads/2018/10/DSC_2746.jpg
END:VEVENT
BEGIN:VEVENT
DTSTART;TZID=Europe/Berlin:20260301T100000
DTEND;TZID=Europe/Berlin:20260301T113000
DTSTAMP:20260419T174023
CREATED:20260212T184121Z
LAST-MODIFIED:20260212T184121Z
UID:25655-1772359200-1772364600@www.pfarrverband-gruenwald.de
SUMMARY:PGR-Wahl: vor Ort im Pfarrheim Maria Königin
DESCRIPTION:Alternativ zur Online- und zur Briefwahl können Sie auch in altbewährter Weise vor Ort per Urnenwahl im Wahllokal im Pfarrheim wählen. Aufgrund der gemeinsamen Wahl für beide Pfarreien können Angehörige beider Pfarreien ganz problemlos in beiden Wahllokalen wählen! \nAlle Infos zur Wahl hier im Flyer.
URL:https://www.pfarrverband-gruenwald.de/event/pgr-wahl-vor-ort/
LOCATION:Pfarrheim Maria Königin\, Kardinal-Faulhaber-Platz 1\, Grünwald\, Bayern\, 82031\, Deutschland
CATEGORIES:Veranstaltungen
ATTACH;FMTTYPE=image/png:https://www.pfarrverband-gruenwald.de/wp-content/uploads/2026/01/260301-PGR-Wahl.png
END:VEVENT
BEGIN:VEVENT
DTSTART;TZID=Europe/Berlin:20260301T110000
DTEND;TZID=Europe/Berlin:20260301T120000
DTSTAMP:20260419T174023
CREATED:20260125T144841Z
LAST-MODIFIED:20260125T144841Z
UID:25532-1772362800-1772366400@www.pfarrverband-gruenwald.de
SUMMARY:Feier der Eucharistie
DESCRIPTION:am zweiten Fastensonntag (Lesejahr A) \nDie Liturgischen Texte des Gottesdienstes für das Lesejahr finden Sie z.B. hier (ohne Gewähr für die Korrektheit).
URL:https://www.pfarrverband-gruenwald.de/event/feier-der-eucharistie-260301/
LOCATION:St. Peter und Paul Kirche\, Schloßstraße 2\, Grünwald\, Bayern\, 82031\, Deutschland
CATEGORIES:Regelmäßige Gottesdienste
ATTACH;FMTTYPE=image/jpeg:https://www.pfarrverband-gruenwald.de/wp-content/uploads/2021/01/DSC_9945-scaled.jpg
END:VEVENT
BEGIN:VEVENT
DTSTART;TZID=Europe/Berlin:20260301T120000
DTEND;TZID=Europe/Berlin:20260301T133000
DTSTAMP:20260419T174023
CREATED:20260212T183643Z
LAST-MODIFIED:20260212T184313Z
UID:25651-1772366400-1772371800@www.pfarrverband-gruenwald.de
SUMMARY:PGR-Wahl: vor Ort im Pfarrheim St. Peter und Paul
DESCRIPTION:Alternativ zur Online- und zur Briefwahl können Sie auch in altbewährter Weise vor Ort per Urnenwahl im Wahllokal im Pfarrheim wählen. Aufgrund der gemeinsamen Wahl für beide Pfarreien können Angehörige beider Pfarreien ganz problemlos in beiden Wahllokalen wählen! \nAlle Infos zur Wahl hier im Flyer.
URL:https://www.pfarrverband-gruenwald.de/event/pgr-wahl-vor-ort-im-pfarrheim-peter-und-paul/
LOCATION:Pfarrheim St. Peter und Paul\, Schlossstraße 2\, Grünwald\, Bayern\, 82031\, Deutschland
CATEGORIES:Veranstaltungen
ATTACH;FMTTYPE=image/png:https://www.pfarrverband-gruenwald.de/wp-content/uploads/2026/01/260301-PGR-Wahl.png
END:VEVENT
BEGIN:VEVENT
DTSTART;TZID=Europe/Berlin:20260301T193000
DTEND;TZID=Europe/Berlin:20260301T203000
DTSTAMP:20260419T174023
CREATED:20260227T190611Z
LAST-MODIFIED:20260227T190611Z
UID:25668-1772393400-1772397000@www.pfarrverband-gruenwald.de
SUMMARY:Lobpreis in der Kapelle von Maria Königin
DESCRIPTION:Auf Initiative von Willi Kuper und Martin Harbauer besteht immer an jedem ersten Sonntag im Monat  um 19:30 Uhr die Möglichkeit bei einer Stunde Lobpreis in der Kapelle von Maria Königin teilzunehmen. Er ist ökumenisch offen\, ruhig\, kontemplativ und schlicht gestaltet. Herzliche Einladung an alle Interessierten mitzusingen!
URL:https://www.pfarrverband-gruenwald.de/event/lobpreis-in-der-kapelle-von-maria-koenigin-11/
LOCATION:Kapelle von Maria Königin\, Kardinal-Faulhaber-Platz 1\, Grünwald\, Bayern\, 82031\, Deutschland
CATEGORIES:Veranstaltungen
ATTACH;FMTTYPE=image/png:https://www.pfarrverband-gruenwald.de/wp-content/uploads/2025/11/Lobpreis_Stand_Dez.2025.png
END:VEVENT
END:VCALENDAR