BEGIN:VCALENDAR
VERSION:2.0
PRODID:-//Pfarrverband Grünwald - ECPv6.15.20//NONSGML v1.0//EN
CALSCALE:GREGORIAN
METHOD:PUBLISH
X-ORIGINAL-URL:https://www.pfarrverband-gruenwald.de
X-WR-CALDESC:Veranstaltungen für Pfarrverband Grünwald
REFRESH-INTERVAL;VALUE=DURATION:PT1H
X-Robots-Tag:noindex
X-PUBLISHED-TTL:PT1H
BEGIN:VTIMEZONE
TZID:Europe/Berlin
BEGIN:DAYLIGHT
TZOFFSETFROM:+0100
TZOFFSETTO:+0200
TZNAME:CEST
DTSTART:20250330T010000
END:DAYLIGHT
BEGIN:STANDARD
TZOFFSETFROM:+0200
TZOFFSETTO:+0100
TZNAME:CET
DTSTART:20251026T010000
END:STANDARD
BEGIN:DAYLIGHT
TZOFFSETFROM:+0100
TZOFFSETTO:+0200
TZNAME:CEST
DTSTART:20260329T010000
END:DAYLIGHT
BEGIN:STANDARD
TZOFFSETFROM:+0200
TZOFFSETTO:+0100
TZNAME:CET
DTSTART:20261025T010000
END:STANDARD
BEGIN:DAYLIGHT
TZOFFSETFROM:+0100
TZOFFSETTO:+0200
TZNAME:CEST
DTSTART:20270328T010000
END:DAYLIGHT
BEGIN:STANDARD
TZOFFSETFROM:+0200
TZOFFSETTO:+0100
TZNAME:CET
DTSTART:20271031T010000
END:STANDARD
END:VTIMEZONE
BEGIN:VEVENT
DTSTART;TZID=Europe/Berlin:20260228T080000
DTEND;TZID=Europe/Berlin:20260228T083000
DTSTAMP:20260419T190914
CREATED:20260125T171234Z
LAST-MODIFIED:20260130T180520Z
UID:25595-1772265600-1772267400@www.pfarrverband-gruenwald.de
SUMMARY:Ökumenische Morgenandacht
DESCRIPTION:Für alle Frühaufsteher gibt es in der Adventszeit wieder die ökumenischen Morgenandachten mit geistlichen Impulsen\, Gebeten und Liedern.\nBitte denken Sie daran\, sich warm anzuziehen – die Kirche ist nicht geheizt!
URL:https://www.pfarrverband-gruenwald.de/event/oekumenische-morgenandacht-260228/
LOCATION:Alte Pfarrkirche\, Schloßstr. 2\, Grünwald\, 82031\, Deutschland
CATEGORIES:Besondere Gottesdienste
ATTACH;FMTTYPE=image/png:https://www.pfarrverband-gruenwald.de/wp-content/uploads/2026/01/260221-oekumenische-Morgenandachten-1.png
END:VEVENT
BEGIN:VEVENT
DTSTART;TZID=Europe/Berlin:20260228T090000
DTEND;TZID=Europe/Berlin:20260228T120000
DTSTAMP:20260419T190914
CREATED:20260212T182952Z
LAST-MODIFIED:20260212T184419Z
UID:25647-1772269200-1772280000@www.pfarrverband-gruenwald.de
SUMMARY:PGR Wahl: Abgabeschluss für die Briefwahl
DESCRIPTION:Die Briefwahlunterlagen können Sie ab 09. Februar in einem der beiden Pfarrbüros (beachten Sie bitte die Öffnungszeiten) beantragen. Die Wahlbriefe müssen bis spätestens Samstag\, 28. Februar\, 12.00 Uhr im Briefkasten eines Pfarrbüros eingegangen sein.  Alle Infos zur Wahl hier im Flyer.
URL:https://www.pfarrverband-gruenwald.de/event/pgr-wahl-abgabeschluss-fuer-die-briefwahl/
LOCATION:Sonstiger Ort\, Deutschland
CATEGORIES:Veranstaltungen
ATTACH;FMTTYPE=image/png:https://www.pfarrverband-gruenwald.de/wp-content/uploads/2026/01/260301-PGR-Wahl.png
END:VEVENT
BEGIN:VEVENT
DTSTART;TZID=Europe/Berlin:20260228T170000
DTEND;TZID=Europe/Berlin:20260228T193000
DTSTAMP:20260419T190914
CREATED:20260212T183558Z
LAST-MODIFIED:20260212T183558Z
UID:25649-1772298000-1772307000@www.pfarrverband-gruenwald.de
SUMMARY:PGR-Wahl: vor Ort im Pfarrheim Maria Königin
DESCRIPTION:Alternativ zur Online- und zur Briefwahl können Sie auch in altbewährter Weise vor Ort per Urnenwahl im Wahllokal im Pfarrheim wählen. Aufgrund der gemeinsamen Wahl für beide Pfarreien können Angehörige beider Pfarreien ganz problemlos in beiden Wahllokalen wählen! \nAlle Infos zur Wahl hier im Flyer.
URL:https://www.pfarrverband-gruenwald.de/event/pgr-wahl-vor-ort-im-pfarrheim-maria-koenigin/
LOCATION:Pfarrheim Maria Königin\, Kardinal-Faulhaber-Platz 1\, Grünwald\, Bayern\, 82031\, Deutschland
CATEGORIES:Veranstaltungen
ATTACH;FMTTYPE=image/png:https://www.pfarrverband-gruenwald.de/wp-content/uploads/2026/01/260301-PGR-Wahl.png
END:VEVENT
BEGIN:VEVENT
DTSTART;TZID=Europe/Berlin:20260228T171500
DTEND;TZID=Europe/Berlin:20260228T174500
DTSTAMP:20260419T190914
CREATED:20260125T151001Z
LAST-MODIFIED:20260125T151001Z
UID:25565-1772298900-1772300700@www.pfarrverband-gruenwald.de
SUMMARY:Rosenkranz in Maria Königin
DESCRIPTION:Der Rosenkranz verbindet Marienverehrung und Christusfrömmigkeit\, die Jesus Christus in seiner Entäußerung und seinem Leiden betrachtet.
URL:https://www.pfarrverband-gruenwald.de/event/rosenkranz-in-maria-koenigin-260227/
LOCATION:Maria Königin Kirche\, Kardinal-Faulhaber-Platz 1\, Grünwald\, Bayern\, 82031\, Deutschland
CATEGORIES:Besondere Gottesdienste,Regelmäßige Gottesdienste
ATTACH;FMTTYPE=image/jpeg:https://www.pfarrverband-gruenwald.de/wp-content/uploads/2017/12/DSC_9524-1-e1517861061823.jpg
END:VEVENT
BEGIN:VEVENT
DTSTART;TZID=Europe/Berlin:20260228T180000
DTEND;TZID=Europe/Berlin:20260228T190000
DTSTAMP:20260419T190914
CREATED:20260125T165848Z
LAST-MODIFIED:20260125T165848Z
UID:25578-1772301600-1772305200@www.pfarrverband-gruenwald.de
SUMMARY:Vorabendmesse in Maria Königin
DESCRIPTION:am Vorabend des zweiten Fastensonntags (Lesejahr A) \nDie Liturgischen Texte des Gottesdienstes finden Sie für das gesamte Jahr 2026 z.B. hier (ohne Gewähr für die Korrektheit).
URL:https://www.pfarrverband-gruenwald.de/event/vorabendmesse-in-maria-koenigin-260228/
LOCATION:Maria Königin Kirche\, Kardinal-Faulhaber-Platz 1\, Grünwald\, Bayern\, 82031\, Deutschland
CATEGORIES:Regelmäßige Gottesdienste
ATTACH;FMTTYPE=image/jpeg:https://www.pfarrverband-gruenwald.de/wp-content/uploads/2018/01/DSC_9553.jpg
END:VEVENT
END:VCALENDAR